BEGIN:VCALENDAR
VERSION:2.0
PRODID:-//TYPO3/NONSGML News system (news)//EN
BEGIN:VEVENT
UID:news-79621@kulturanthropologie.uni-graz.at
DTSTAMP:20241223T111306Z
DTSTART:20211108T092500Z
DTEND:20220131T092600Z
SUMMARY:null &amp; eins: Soziokulturelle Prozesse der Digitalisierung

DESCRIPTION:Vortragsreihe im WS 2021/22
END:VEVENT
END:VCALENDAR
